BEGIN:VCALENDAR
VERSION:2.0
PRODID:-//eventon.com NONSGML v1.0//EN
CALSCALE:GREGORIAN
METHOD:PUBLISH
BEGIN:VEVENT
UID:69ea1cb4e6378
DTSTAMP:20260423T132052Z
DTSTART:20250731
DTEND:20250801
LOCATION:
SUMMARY:Nyári tábor
DESCRIPTION:további információk hamarosan…\nhttps://drezda.cserkesz.eu
 /events/nyari-tabor/
URL:https://drezda.cserkesz.eu/events/nyari-tabor/
END:VEVENT
END:VCALENDAR