BEGIN:VCALENDAR
VERSION:2.0
PRODID:-//eventon.com NONSGML v1.0//EN
CALSCALE:GREGORIAN
METHOD:PUBLISH
BEGIN:VEVENT
UID:69e6543aebf94
DTSTAMP:20260420T162842Z
DTSTART:20260329
DTEND:20260330
LOCATION:
SUMMARY:48. Tinódi Lantos Sebestyén Kerületi Regöstábor
DESCRIPTION:\nhttps://drezda.cserkesz.eu/events/48-tinodi-lantos-sebestyen-
 keruleti-regostabor/
URL:https://drezda.cserkesz.eu/events/48-tinodi-lantos-sebestyen-keruleti-regostabor/
END:VEVENT
END:VCALENDAR